BEGIN:VCALENDAR
VERSION:2.0
PRODID:-//ChamberMaster//Event Calendar 2.0//EN
METHOD:PUBLISH
X-PUBLISHED-TTL:P3D
REFRESH-INTERVAL:P3D
CALSCALE:GREGORIAN
BEGIN:VEVENT
DTSTART:20260430T220000Z
DTEND:20260430T230000Z
X-MICROSOFT-CDO-ALLDAYEVENT:FALSE
SUMMARY:Mansfield Bicycle and Pedestrian Network Plan Virtual Meeting
DESCRIPTION:Join us for a virtual public meeting to help shape the future of walking and biking in Mansfield. This meeting will introduce the Mansfield Bicycle and Pedestrian Network Plan\, a joint planning effort by the Town of Mansfield and your regional planning agency SRPEDD\, to gather initial feedback from residents on priorities\, challenges\, and opportunities for improving sidewalks\, trails\, crossings\, and bike routes across the community.
X-ALT-DESC;FMTTYPE=text/html:Join us for a virtual public meeting to help shape the future of walking and biking in Mansfield. This meeting will introduce the Mansfield Bicycle and Pedestrian Network Plan\, a joint planning effort by the Town of Mansfield and your regional planning agency SRPEDD\, to gather initial feedback from residents on priorities\, challenges\, and opportunities for improving sidewalks\, trails\, crossings\, and bike routes across the community.
LOCATION:Zoom
UID:e.1730.8506
SEQUENCE:3
DTSTAMP:20260423T193250Z
URL:http://tri-townchamber.com/events/details/mansfield-bicycle-and-pedestrian-network-plan-virtual-meeting-8506
END:VEVENT

END:VCALENDAR
