BEGIN:VCALENDAR
VERSION:2.0
PRODID:-//ChamberMaster//Event Calendar 2.0//EN
METHOD:PUBLISH
X-PUBLISHED-TTL:P3D
REFRESH-INTERVAL:P3D
CALSCALE:GREGORIAN
BEGIN:VEVENT
DTSTART:20260517T130000Z
DTEND:20260517T150000Z
X-MICROSOFT-CDO-ALLDAYEVENT:FALSE
SUMMARY:Sage School 5K
DESCRIPTION:Support The Sage School on May 17 and join us (running or walking) for our annual 5K Race! We hope you will join us in impacting the community\, as everyone looks forward to crossing the finish line for a fun foam finish. If you plan to register on race day\, please note that registration will increase to $30. Check in begins at 8am\, race at 9am!!
X-ALT-DESC;FMTTYPE=text/html:<span style="background-color:rgb(25\, 96\, 68)\; color:rgb(255\, 255\, 255)\; font-family:montserrat\,sans-serif\; font-size:20px">Support The Sage School on May 17 and join us (running or walking) for our annual 5K Race! We hope you will join us in impacting the community\, as everyone looks forward to crossing the finish line for a fun foam finish. If you plan to register on race day\, please note that registration will increase to $30. Check in begins at 8am\, race at 9am!!&nbsp\;</span>
LOCATION:The Sage School (Start & Finish) 171 Mechanic St. Foxboro\, MA 02035
UID:e.1730.8507
SEQUENCE:3
DTSTAMP:20260425T104007Z
URL:http://tri-townchamber.com/events/details/sage-school-5k-8507
END:VEVENT

END:VCALENDAR
