BEGIN:VCALENDAR
VERSION:2.0
PRODID:-//ChamberMaster//Event Calendar 2.0//EN
METHOD:PUBLISH
X-PUBLISHED-TTL:P3D
REFRESH-INTERVAL:P3D
CALSCALE:GREGORIAN
BEGIN:VEVENT
DTSTART:20260505T130000Z
DTEND:20260505T143000Z
X-MICROSOFT-CDO-ALLDAYEVENT:FALSE
SUMMARY:Small & Microbusiness Office Hours
DESCRIPTION:Strengthen and grow your economic toolkit!\n\n\n\nTri-Town Small & Microbusiness Office Hours in Mansfield. This session is being hosted in partnership with the Town of Norton\, Town of Mansfield\, Town of Foxborough\, EOED\, and the Tri-Town Chamber of Commerce. Join us for an open dialogue and guidance.  Navigating Massachusetts funding and workforce programs\, including the new Business Frint Door platform.\n\n \n\nTuesday\, May 5th 9: 00 AM   10:30 AM Mansfield Town Hall\n\n \n\nWe're bringing together local partners to create an open and supportive space where small and microbusiness owners can ask questions\, connect with resources\, and learn more about available funding and support for small businesses.
X-ALT-DESC;FMTTYPE=text/html:<div class="x_elementToProof" data-olk-copy-source="MessageBody" style="border: 0px\; font-style: inherit\; font-variant: inherit\; font-weight: inherit\; font-stretch: inherit\; font-size: 15px\; line-height: inherit\; font-family: &quot\;Segoe UI&quot\;\, &quot\;Segoe UI Web (West European)&quot\;\, -apple-system\, BlinkMacSystemFont\, Roboto\, &quot\;Helvetica Neue&quot\;\, sans-serif\; font-optical-sizing: inherit\; font-size-adjust: inherit\; font-kerning: inherit\; font-feature-settings: inherit\; font-variation-settings: inherit\; font-language-override: inherit\; margin: 0px\; padding: 0px\; vertical-align: baseline\; color: rgb(36\, 36\, 36)\; direction: ltr\;"><strong>Strengthen and grow your economic toolkit!</strong><br />\n<br />\nTri-Town Small &amp\; Microbusiness Office Hours in Mansfield. This session is being hosted in partnership with the Town of Norton\, Town of Mansfield\, Town of Foxborough\, EOED\, and the Tri-Town Chamber of Commerce. Join us for an open dialogue and guidance.&nbsp\; Navigating Massachusetts funding and workforce programs\, including the new Business Frint Door platform.</div>\n\n<div class="x_elementToProof" style="border: 0px\; font-style: inherit\; font-variant: inherit\; font-weight: inherit\; font-stretch: inherit\; font-size: 15px\; line-height: inherit\; font-family: &quot\;Segoe UI&quot\;\, &quot\;Segoe UI Web (West European)&quot\;\, -apple-system\, BlinkMacSystemFont\, Roboto\, &quot\;Helvetica Neue&quot\;\, sans-serif\; font-optical-sizing: inherit\; font-size-adjust: inherit\; font-kerning: inherit\; font-feature-settings: inherit\; font-variation-settings: inherit\; font-language-override: inherit\; margin: 0px\; padding: 0px\; vertical-align: baseline\; color: rgb(36\, 36\, 36)\; direction: ltr\;">&nbsp\;</div>\n\n<div class="x_elementToProof" style="border: 0px\; font-style: inherit\; font-variant: inherit\; font-weight: inherit\; font-stretch: inherit\; font-size: 15px\; line-height: inherit\; font-family: &quot\;Segoe UI&quot\;\, &quot\;Segoe UI Web (West European)&quot\;\, -apple-system\, BlinkMacSystemFont\, Roboto\, &quot\;Helvetica Neue&quot\;\, sans-serif\; font-optical-sizing: inherit\; font-size-adjust: inherit\; font-kerning: inherit\; font-feature-settings: inherit\; font-variation-settings: inherit\; font-language-override: inherit\; margin: 0px\; padding: 0px\; vertical-align: baseline\; color: rgb(36\, 36\, 36)\; direction: ltr\;">Tuesday\, May 5<sup>th</sup>&nbsp\;9: 00 AM &ndash\; 10:30 AM Mansfield Town Hall</div>\n\n<div class="x_elementToProof" style="border: 0px\; font-style: inherit\; font-variant: inherit\; font-weight: inherit\; font-stretch: inherit\; font-size: 15px\; line-height: inherit\; font-family: &quot\;Segoe UI&quot\;\, &quot\;Segoe UI Web (West European)&quot\;\, -apple-system\, BlinkMacSystemFont\, Roboto\, &quot\;Helvetica Neue&quot\;\, sans-serif\; font-optical-sizing: inherit\; font-size-adjust: inherit\; font-kerning: inherit\; font-feature-settings: inherit\; font-variation-settings: inherit\; font-language-override: inherit\; margin: 0px\; padding: 0px\; vertical-align: baseline\; color: rgb(36\, 36\, 36)\; direction: ltr\;">&nbsp\;</div>\n\n<div class="x_elementToProof" style="border: 0px\; font-style: inherit\; font-variant: inherit\; font-weight: inherit\; font-stretch: inherit\; font-size: 15px\; line-height: inherit\; font-family: &quot\;Segoe UI&quot\;\, &quot\;Segoe UI Web (West European)&quot\;\, -apple-system\, BlinkMacSystemFont\, Roboto\, &quot\;Helvetica Neue&quot\;\, sans-serif\; font-optical-sizing: inherit\; font-size-adjust: inherit\; font-kerning: inherit\; font-feature-settings: inherit\; font-variation-settings: inherit\; font-language-override: inherit\; margin: 0px\; padding: 0px\; vertical-align: baseline\; color: rgb(36\, 36\, 36)\; direction: ltr\;">We&rsquo\;re bringing together local partners to create an open and supportive space where small and microbusiness owners can ask questions\, connect with resources\, and learn more about available funding and support for small businesses.&nbsp\;</div>\n\n<div class="x_elementToProof" style="border: 0px\; font-style: inherit\; font-variant: inherit\; font-weight: inherit\; font-stretch: inherit\; font-size: 15px\; line-height: inherit\; font-family: &quot\;Segoe UI&quot\;\, &quot\;Segoe UI Web (West European)&quot\;\, -apple-system\, BlinkMacSystemFont\, Roboto\, &quot\;Helvetica Neue&quot\;\, sans-serif\; font-optical-sizing: inherit\; font-size-adjust: inherit\; font-kerning: inherit\; font-feature-settings: inherit\; font-variation-settings: inherit\; font-language-override: inherit\; margin: 0px\; padding: 0px\; vertical-align: baseline\; color: rgb(36\, 36\, 36)\; direction: ltr\;">&nbsp\;</div>\n
LOCATION:Mansfield Town Hall 6 park Row in Mansfield
UID:e.1730.8504
SEQUENCE:3
DTSTAMP:20260424T091934Z
URL:http://tri-townchamber.com/events/details/small-microbusiness-office-hours-8504
END:VEVENT

END:VCALENDAR
