BEGIN:VCALENDAR
VERSION:2.0
PRODID:-//ChamberMaster//Event Calendar 2.0//EN
METHOD:PUBLISH
X-PUBLISHED-TTL:P3D
REFRESH-INTERVAL:P3D
CALSCALE:GREGORIAN
BEGIN:VEVENT
DTSTART:20260423T220000Z
DTEND:20260424T010000Z
X-MICROSOFT-CDO-ALLDAYEVENT:FALSE
SUMMARY:Whimsical Way: A Curious Journey on a Special Street. A Book Launch Art-Musical Event.
DESCRIPTION:Created for children 4-6\, the story takes young readers onto magical walk down the street filled with whimsical  houses\, lighthouses\, and castles-each one sparkling with imagination and wonder\, inspiring curiosity and awakening in child's sense of fantasy.\n\n\n\nWritten by Gila Susi\, Illustrations by Boris Rudelson.\n\n\n\nJoin us to explore how magical houses come to life on the page and why nurturing imagination matters to young children.\n\n\n\nSee what it's all about and RSVP here\, absolutely for free.\n\nhttps://www.bioinc.org/events/2026/4/23/whimsical-way-a-curious-journey-on-a-special-street-a-book-launch-art-musical-event
X-ALT-DESC;FMTTYPE=text/html:Created for children 4-6\, the story takes young readers onto magical walk down the street filled with whimsical&nbsp\; houses\, lighthouses\, and castles-each one sparkling with imagination and wonder\, inspiring curiosity and awakening in child&#39\;s sense of fantasy.<br />\n<br />\n<strong>Written by Gila Susi\, Illustrations by Boris Rudelson.</strong><br />\n<br />\nJoin us to explore how magical houses come to life on the page and why nurturing imagination matters to young children.<br />\n<br />\nSee what it&#39\;s all about and RSVP here\, absolutely for free.<br />\nhttps://www.bioinc.org/events/2026/4/23/whimsical-way-a-curious-journey-on-a-special-street-a-book-launch-art-musical-event
LOCATION:BioInc (Mansfield Bio-Incubator) 241 Francis Ave Mansfield\, MA 02048
UID:e.1730.8502
SEQUENCE:3
DTSTAMP:20260421T193048Z
URL:http://tri-townchamber.com/events/details/whimsical-way-a-curious-journey-on-a-special-street-a-book-launch-art-musical-event-8502
END:VEVENT

END:VCALENDAR
