BEGIN:VCALENDAR
VERSION:2.0
PRODID:-//ChamberMaster//Event Calendar 2.0//EN
METHOD:PUBLISH
X-PUBLISHED-TTL:P3D
REFRESH-INTERVAL:P3D
CALSCALE:GREGORIAN
BEGIN:VEVENT
DTSTART:20190604T130000Z
DTEND:20190604T150000Z
X-MICROSOFT-CDO-ALLDAYEVENT:FALSE
SUMMARY:MassDOT Listening Session
DESCRIPTION:As a business leader in the Neponset Valley region\, we invite you to provide your input to MassDOT on workforce transportation needs at a forum on Tuesday\, June 4 from 9   11 a.m. at the Endicott Estate\, Dedham.  (Additional details attached and download here to RSVP on Eventbrite.)\n\n \n\nMassDOT wants to hear directly from the employment sector and regional leaders as they formulate a new annual $1.5 Million competitive grant program to increase workforce transportation options.  We hope you will join us and participate in this opportunity to share your workforce transit priorities\, concerns\, and ideas with MassDOT's Rail and Transit Administrator\, Astrid Glynn\, and also learn about the benefits of the MBTA's Perq program for employers and employees.  \n\n \n\nMassDOT is currently holding a series of listening sessions across the state to hear from businesses   in particular\, they want to talk about a new $1.5 million grant program that is being developed (Workforce Transit Grants). It will be important to show MassDOT through good attendance of influential businesses leaders that the state should continue to invest in public/private partnerships around transportation. I encourage you to attend or send representatives to show support and share any ideas you have.   Please forward this invitation to other business members in your community.  \n\n \n\nSpace is limited\, so click here to register or call 781-790-3675.  \n\n \n\nWe hope you will participate and ensure that the Neponset Valley region benefits from this new state program!
X-ALT-DESC;FMTTYPE=text/html:<span style="font-family:garamond\,serif\;"><span style="font-size:12.0pt\;">As a business leader in the Neponset Valley region\, we invite you to provide your input to MassDOT on <u>workforce transportation needs</u> at a forum on Tuesday\, June 4 from 9 &ndash\; 11 a.m. at the Endicott Estate\, Dedham.&nbsp\;&nbsp\;(Additional details attached and <strong><a href="https://www.eventbrite.com/e/june-4-massdot-workforce-transit-grant-tickets-61522932748?aff=KD">download here</a></strong> to RSVP on Eventbrite.)</span></span><br />\n&nbsp\;<br />\n<span style="font-family:garamond\,serif\;"><span style="font-size:12.0pt\;">MassDOT wants to <strong>hear directly from the employment sector</strong> <strong>and regional leaders </strong>as they formulate a new annual <strong><u>$1.5 Million competitive grant program to increase workforce transportation options.</u></strong>&nbsp\; We hope you will join us and participate in this opportunity to <strong>share your workforce transit priorities\, concerns\, and ideas</strong> with MassDOT&rsquo\;s Rail and Transit Administrator\, Astrid Glynn\, and also learn about the benefits of the <a href="https://perq.mbta.com/">MBTA&rsquo\;s Perq</a> program for employers and employees.&nbsp\; </span></span><br />\n&nbsp\;<br />\n<span style="font-family:garamond\,serif\;"><span style="font-size:12.0pt\;">MassDOT is currently holding a series of listening sessions across the state to hear from businesses &ndash\; in particular\, they want to talk about a new $1.5 million grant program that is being developed (Workforce Transit Grants). It will be important to show MassDOT through <strong>good attendance of influential businesses leaders that the state should continue to invest in public/private partnerships around transportation.</strong> I encourage you to attend or send representatives to show support and share any ideas you have.&nbsp\;&nbsp\; Please forward this invitation to other business members in your community.&nbsp\; </span></span><br />\n&nbsp\;<br />\n<span style="font-family:garamond\,serif\;"><span style="font-size:12.0pt\;">Space is limited\, so click <strong><a href="https://www.eventbrite.com/e/june-4-massdot-workforce-transit-grant-tickets-61522932748?aff=KD">here</a></strong> to register or call 781-790-3675.&nbsp\; </span></span><br />\n&nbsp\;<br />\n<span style="font-family:garamond\,serif\;"><span style="font-size:12.0pt\;">We hope you will participate and ensure that the Neponset Valley region benefits from this new state program!</span></span>
LOCATION:Endicott Estate Dedham
UID:e.1730.6208
SEQUENCE:3
DTSTAMP:20260419T230630Z
URL:https://tri-townchamber.com/events/details/massdot-listening-session-6208
END:VEVENT

END:VCALENDAR
