BEGIN:VCALENDAR
VERSION:2.0
PRODID:-//ChamberMaster//Event Calendar 2.0//EN
METHOD:PUBLISH
X-PUBLISHED-TTL:P3D
REFRESH-INTERVAL:P3D
CALSCALE:GREGORIAN
BEGIN:VEVENT
DTSTART:20141113T200000Z
DTEND:20141114T000000Z
X-MICROSOFT-CDO-ALLDAYEVENT:FALSE
SUMMARY:Mega Business Expo at Gillette Stadium
DESCRIPTION:Come on out and meet Local Business at the MegaBusiness Expo\, at Gillette Stadium on Thursday\, November 13\, 2014   \n\n\n\nSUPPORT LOCAL BUSINESS   Attend A FREE Multi-Chamber Business Expo Fun\, Food and Celebrities   \n\n~ All While Supporting Local Business\n\n~ Build New Business Connections\n\n~ Meet Scott Zolak   \n\n~ See the Patriots Cheerleaders  \n\n~ Meet Joe Andruzzi\n\n~ Experience Gillette Stadium and Much More!\n\n~ FREE to attend\, support Local Business!\n\nNovember 13\, 2014  from 3:00pm - 7:00pm\n\nat Gillette Stadium  (Rte 1 Foxboro - Putnam Club East)\n\nParking Eastside Lot 6 then Enter E4 into the Putnam Club\n\n\n\nExhibitor Hours: 3:00   7:00pm  Open to the Public! \n\n\n\nThis is a Multi Chamber Event organized by\;    \n\nTri-Town Chamber\, Neponset Valley and Milford Area Chambers of Commerce\n\n\n\n\n\nExhibition Information below\n\nShowcase your business to consumers from over 26 communities at the MegaBusiness EXPO\, a collaborative of the Tri-Town\, Neponset Valley\, and Milford Area Chambers of Commerce\, on Thursday\, November 13\, 2014 at the exclusive Putnam Club at Gillette Stadium.\n\n \n\nWhy should you Exhibit?\n\n\n	Access to over 1000 consumers from 26 communities\n	Great value on investment at only $375.00 (early bird ends September 19)\n	Amazing location - Get a chance to be in the exclusive Putnam Club with stunning views of Gillette Stadium\n	Professional marketing\, booth set up and signage - We do the work\, you show up!\n	Build relationships with area service providers and businesses\n	Grab some giveaways and register for great prizes\n	Taste cuisine from area restaurants during our Networking Hour\n\n Your registration includes:\n\n\n	Professional signage               \n	Booth (8x6) with pipe and draping\, linens\, trash can set up before you arrive                                   \n	Marketing in three chamber areas\n	Basic WiFi for emails and surfing\n	Special networking and training seminars for exhibitors only on Sept 30th\n	Prizes\, food\, fun and amazing views of the stadium-don't miss it! Sign up today. Booths are assigned on a first-come\, first-serve basis.\n\n\n \n\nPlease contact Kara Griffin or Ruthie Briggs office@tri-townchamber.org  or 508-339-5655 for more information
X-ALT-DESC;FMTTYPE=text/html:<span style="font-size:14px\;"><span style="font-family:arial\;">Come on out and meet Local Business at the MegaBusiness Expo\, at Gillette Stadium on Thursday\, November 13\, 2014&nbsp\;&nbsp\; </span><br />\n<br />\nSUPPORT LOCAL BUSINESS &nbsp\;&nbsp\;Attend A FREE Multi-Chamber Business Expo Fun\, Food and Celebrities&nbsp\;&nbsp\;&nbsp\;<br />\n~ All While Supporting Local Business<br />\n~ Build New Business Connections<br />\n~ Meet Scott Zolak&nbsp\;&nbsp\;&nbsp\;<br />\n~ See the Patriots Cheerleaders&nbsp\;&nbsp\;<br />\n~ Meet Joe Andruzzi<br />\n~ Experience Gillette Stadium and Much More!<br />\n~ FREE to attend\, support Local Business!<br />\nNovember 13\, 2014 &nbsp\;from&nbsp\;3:00pm - 7:00pm<br />\nat Gillette Stadium &nbsp\;(Rte 1 Foxboro - Putnam Club East)<br />\nParking Eastside Lot 6 then Enter E4 into the Putnam Club</span><br />\n<br />\n<span style="font-family: arial\; font-size: 14px\; line-height: 22.3999996185303px\;">Exhibitor Hours:&nbsp\;</span><strong style="font-family: arial\; font-size: 14px\; line-height: 22.3999996185303px\;">3:00 &ndash\; 7:00pm&nbsp\; Open to the Public!&nbsp\;</strong><br style="font-family: arial\; font-size: 14px\; line-height: 22.3999996185303px\;" />\n<br />\n<em style="font-family: arial\; font-size: 14px\; line-height: 22.3999996185303px\;">This is a Multi Chamber Event organized by\; &nbsp\; &nbsp\;</em><br />\n<span style="font-size:14px\;"><span style="font-family: arial\; line-height: 22.3999996185303px\;">Tri-Town Chamber\,&nbsp\;</span>Neponset<span style="font-family: arial\; line-height: 22.3999996185303px\;">&nbsp\;Valley and Milford Area Chambers of Commerce</span></span><br style="font-family: arial\; font-size: 14px\; line-height: 22.3999996185303px\;" />\n<br />\n<br />\n<em><strong>Exhibition Information below</strong></em><br />\n<span style="font-size:14px\;">Showcase your business to consumers from over 26 communities at the MegaBusiness EXPO\, a collaborative of the Tri-Town\,&nbsp\;Neponset Valley\, and Milford Area Chambers of Commerce\, on Thursday\, November 13\, 2014 at the exclusive Putnam Club at Gillette Stadium.<br />\n&nbsp\;<br />\n<strong>Why should you Exhibit?</strong></span>\n\n<ul>\n	<li><span style="font-size:14px\;">Access to over 1000 consumers from 26 communities</span></li>\n	<li><span style="font-size:14px\;">Great value on investment at only $375.00 (early bird ends September 19)</span></li>\n	<li><span style="font-size:14px\;">Amazing location - Get a chance to be in the exclusive Putnam Club with stunning views of Gillette Stadium</span></li>\n	<li><span style="font-size:14px\;">Professional marketing\, booth set up and signage - We do the work\, you show up!</span></li>\n	<li><span style="font-size:14px\;">Build relationships with area service providers and businesses</span></li>\n	<li><span style="font-size:14px\;">Grab some giveaways and register for great prizes</span></li>\n	<li><span style="font-size:14px\;">Taste cuisine from area restaurants during our Networking Hour</span></li>\n</ul>\n<span style="font-size:14px\;"> <em><strong>Your registration includes:</strong></em></span>\n\n<ul>\n	<li><span style="font-size:14px\;">Professional signage&nbsp\;&nbsp\;&nbsp\;&nbsp\;&nbsp\;&nbsp\;&nbsp\;&nbsp\;&nbsp\;&nbsp\;&nbsp\;&nbsp\;&nbsp\;&nbsp\;&nbsp\;</span></li>\n	<li><span style="font-size:14px\;">Booth (8x6) with pipe and draping\, linens\, trash can set up before you arrive&nbsp\;&nbsp\;&nbsp\;&nbsp\;&nbsp\;&nbsp\;&nbsp\;&nbsp\;&nbsp\;&nbsp\;&nbsp\;&nbsp\;&nbsp\;&nbsp\;&nbsp\;&nbsp\;&nbsp\;&nbsp\;&nbsp\;&nbsp\;&nbsp\;&nbsp\;&nbsp\;&nbsp\;&nbsp\;&nbsp\;&nbsp\;&nbsp\;&nbsp\;&nbsp\;&nbsp\;&nbsp\;&nbsp\;&nbsp\;&nbsp\;</span></li>\n	<li><span style="font-size:14px\;">Marketing in three chamber areas</span></li>\n	<li><span style="font-size:14px\;">Basic WiFi for emails and surfing</span></li>\n	<li><span style="font-size:14px\;">Special networking and training seminars for exhibitors only on Sept 30th</span></li>\n	<li><span style="font-size:14px\;">Prizes\, food\, fun and amazing views of the stadium-don&#39\;t miss it! Sign up today. Booths are assigned on a first-come\, first-serve basis.</span></li>\n</ul>\n\n<div><span style="font-size:14px\;">&nbsp\;<br />\nPlease contact Kara Griffin or Ruthie Briggs <a href="mailto:office@tri-townchamber.org">office@tri-townchamber.org</a>&nbsp\; or 508-339-5655 for more information </span></div>\n
LOCATION:Gillette Stadium\, Rte 1\, Foxboro MA Putnam Club East (entrance is E4) Parking in E6 (eastside Lot)
UID:e.1730.971
SEQUENCE:3
DTSTAMP:20260425T142615Z
URL:https://tri-townchamber.com/events/details/mega-business-expo-at-gillette-stadium-11-13-2014-971
END:VEVENT

END:VCALENDAR
